BEGIN:VCALENDAR
PRODID:-//github.com/rianjs/ical.net//NONSGML ical.net 4.0//EN
VERSION:2.0
BEGIN:VEVENT
DESCRIPTION:Von Aalen zunächst zwischen Rems und Lein und dann an der Lein
  nach Welzheim sowie nach Urbach an die Rems und an dieser Waiblingen\nht
 tps://touren-termine.adfc.de/radveranstaltung/168356-radtour-von-aalen-na
 ch-waiblingen
DTEND:20250727T150000Z
DTSTAMP:20260424T144538Z
DTSTART:20250727T064500Z
LOCATION:Baustraße Stuttgart 21\, 70173 Stuttgart
SEQUENCE:0
SUMMARY:Radtour von Aalen nach Waiblingen
UID:e6c86f29-bd25-4a27-8dfc-256c64aed89a
URL:https://touren-termine.adfc.de/radveranstaltung/168356-radtour-von-aal
 en-nach-waiblingen
END:VEVENT
END:VCALENDAR
