BEGIN:VCALENDAR
PRODID:-//github.com/rianjs/ical.net//NONSGML ical.net 4.0//EN
VERSION:2.0
BEGIN:VEVENT
DESCRIPTION:Unter fachlicher Anleitung von Lene reparieren wir gemeinsam F
 ahrräder. Der Workshop (13-15 Uhr o. 15:30-17:30 Uhr) ist kostenfrei. Anm
 eldung: info@frauenfahrradschule.de\nhttps://touren-termine.adfc.de/radve
 ranstaltung/140526-fahrradreparaturworkshop-fur-frauen
DTEND:20241027T163000Z
DTSTAMP:20260424T050523Z
DTSTART:20241027T120000Z
LOCATION:Garage 10\, Sewanstraße 43\, 10319 Berlin
SEQUENCE:0
SUMMARY:Fahrradreparatur-Workshop für Frauen
UID:bff443a6-93d6-4b4e-bec4-9c3a8c0008ff
URL:https://touren-termine.adfc.de/radveranstaltung/140526-fahrradreparatu
 rworkshop-fur-frauen
END:VEVENT
END:VCALENDAR
