BEGIN:VCALENDAR
PRODID:-//github.com/rianjs/ical.net//NONSGML ical.net 4.0//EN
VERSION:2.0
BEGIN:VEVENT
DESCRIPTION:Du lebst in Schöneberg und möchtest dich für einen fahrrad-\, 
 menschen- und klimafreundlichen Bezirk einsetzen? Du bist herzlich eingel
 aden. Komm einfach dazu!\nhttps://touren-termine.adfc.de/radveranstaltung
 /142536-treffen-der-stadtteilgruppe-schoneberg
DTEND:20251103T200000Z
DTSTAMP:20260424T020202Z
DTSTART:20251103T180000Z
LOCATION:Raum für Beteiligung\, Dominicusstraße 11\, 10823 Berlin
SEQUENCE:0
SUMMARY:Treffen der Stadtteilgruppe Schöneberg
UID:582d58c7-79da-4f65-a80c-a3d8a6d04c79
URL:https://touren-termine.adfc.de/radveranstaltung/142536-treffen-der-sta
 dtteilgruppe-schoneberg
END:VEVENT
END:VCALENDAR
