BEGIN:VCALENDAR
PRODID:-//github.com/rianjs/ical.net//NONSGML ical.net 4.0//EN
VERSION:2.0
BEGIN:VEVENT
DESCRIPTION:Gemeinsam mit dem BUND und Bündnis Marktoberdorf informiert de
 r ADFC KF-OAL übers STADTRADELN (www.stadtradeln.de/kreis-ostallgaeu) und
  bietet Fahrrad-Codierung im Rahmen des Staffel-Mix-Marathons an.\nhttps:
 //touren-termine.adfc.de/radveranstaltung/102410-auftakt-stadtradeln-und-
 codierung
DTEND:20230618T120000Z
DTSTAMP:20260419T155933Z
DTSTART:20230618T080000Z
LOCATION:Georg-Fischer-Straße\, 87616 Marktoberdorf
SEQUENCE:0
SUMMARY:Auftakt STADTRADELN und Codierung
UID:4e96fe4b-946c-4678-abc9-90f6d10a54d3
URL:https://touren-termine.adfc.de/radveranstaltung/102410-auftakt-stadtra
 deln-und-codierung
END:VEVENT
END:VCALENDAR
