BEGIN:VCALENDAR
PRODID:-//github.com/rianjs/ical.net//NONSGML ical.net 4.0//EN
VERSION:2.0
BEGIN:VEVENT
DESCRIPTION:Melsungen - Adelshausen - Eubach - Katzenstirn - Geidelbachtal
  - Morschen - R 1 bis Melsungen\nhttps://touren-termine.adfc.de/radverans
 taltung/182567-halbtagstour-uber-eubach-ins-geidelbachtal
DTEND:20260628T160000Z
DTSTAMP:20260421T130902Z
DTSTART:20260628T120000Z
LOCATION:Melsungen\, ADFC Schaukasten \, Brückenstrasse Ecke Flämmergasse\
 , 34212 Melsungen
SEQUENCE:0
SUMMARY:Halbtagstour über Eubach ins Geidelbachtal
UID:6de3de50-c744-491d-b52b-87b17f400d54
URL:https://touren-termine.adfc.de/radveranstaltung/182567-halbtagstour-ub
 er-eubach-ins-geidelbachtal
END:VEVENT
END:VCALENDAR
