BEGIN:VCALENDAR
PRODID:-//github.com/rianjs/ical.net//NONSGML ical.net 4.0//EN
VERSION:2.0
BEGIN:VEVENT
DESCRIPTION:Radlertreff in entspannter Atmosphäre\nhttps://touren-termine.
 adfc.de/radveranstaltung/95415-afterwork
DTEND:20240821T200000Z
DTSTAMP:20260424T144257Z
DTSTART:20240821T163000Z
LOCATION:Silberburgstraße 84\, 70176 Stuttgart
SEQUENCE:0
SUMMARY:AfterWork
UID:73a4b0b0-50c6-4463-8a1c-0a54ed83be32
URL:https://touren-termine.adfc.de/radveranstaltung/95415-afterwork
END:VEVENT
END:VCALENDAR
