BEGIN:VCALENDAR
PRODID:-//github.com/rianjs/ical.net//NONSGML ical.net 4.0//EN
VERSION:2.0
BEGIN:VEVENT
DESCRIPTION:Von Gaildorf in einem großen Bogen bis Pommertsweiler und über
  Bühlerzell und Geifertshofen zurück.\nhttps://touren-termine.adfc.de/rad
 veranstaltung/106781-tour-in-hohenlohe
DTEND:20231015T160000Z
DTSTAMP:20260424T143420Z
DTSTART:20231015T065000Z
LOCATION:Kegelenstraße 12\, 70372 Stuttgart
SEQUENCE:0
SUMMARY:Tour in Hohenlohe
UID:ec849662-09a1-4421-8d7c-c1c8e146bd9a
URL:https://touren-termine.adfc.de/radveranstaltung/106781-tour-in-hohenlo
 he
END:VEVENT
END:VCALENDAR
