BEGIN:VCALENDAR
PRODID:-//github.com/rianjs/ical.net//NONSGML ical.net 4.0//EN
VERSION:2.0
BEGIN:VEVENT
DESCRIPTION:Grünkohl- und Snirtje-Essen\nhttps://touren-termine.adfc.de/ra
 dveranstaltung/113475-grunkohl-und-snirtjeessen
DTEND:20240211T140000Z
DTSTAMP:20260421T101044Z
DTSTART:20240211T120000Z
LOCATION:Amdorfer Straße 101\, "Landgaststätte zur Pünte"\, 26789 Leer
SEQUENCE:0
SUMMARY:Grünkohl- und Snirtje-Essen
UID:34e4a809-b7ba-4853-92c4-3b3a263f6b96
URL:https://touren-termine.adfc.de/radveranstaltung/113475-grunkohl-und-sn
 irtjeessen
END:VEVENT
END:VCALENDAR
