BEGIN:VCALENDAR
PRODID:-//github.com/rianjs/ical.net//NONSGML ical.net 4.0//EN
VERSION:2.0
BEGIN:VEVENT
DESCRIPTION:Schöne Nachmittagstour durch Weinberge nach Friedelsheim\nhttp
 s://touren-termine.adfc.de/radveranstaltung/110105-nachmittagstour-von-ha
 ssloch-nach-friedelsheim
DTEND:20240720T150000Z
DTSTAMP:20260425T173400Z
DTSTART:20240720T120000Z
LOCATION:Rathausplatz\, 67454 Haßloch
SEQUENCE:0
SUMMARY:Nachmittagstour von Haßloch nach Friedelsheim
UID:5bce9cf0-2596-4de3-980c-acd4b56a3a98
URL:https://touren-termine.adfc.de/radveranstaltung/110105-nachmittagstour
 -von-hassloch-nach-friedelsheim
END:VEVENT
END:VCALENDAR
