BEGIN:VCALENDAR
PRODID:-//github.com/rianjs/ical.net//NONSGML ical.net 4.0//EN
VERSION:2.0
BEGIN:VEVENT
DESCRIPTION:Eröffnung der Radsaison mit einer Rundtour in den Nordosten Or
 anienburgs mit Führung durch das Technische AusbildungsZentrum\, das Ziel
  der Tour\nhttps://touren-termine.adfc.de/radveranstaltung/160243-fahrrad
 fruhling-oberhavel
DTEND:20250329T140000Z
DTSTAMP:20260425T200553Z
DTSTART:20250329T090000Z
LOCATION:Bahnhof\, 16515 Oranienburg
SEQUENCE:0
SUMMARY:Fahrrad-Frühling Oberhavel
UID:1e37c744-dd7f-4987-8444-fa587405b5af
URL:https://touren-termine.adfc.de/radveranstaltung/160243-fahrradfruhling
 -oberhavel
END:VEVENT
END:VCALENDAR
