BEGIN:VCALENDAR
PRODID:-//github.com/rianjs/ical.net//NONSGML ical.net 4.0//EN
VERSION:2.0
BEGIN:VEVENT
DESCRIPTION:Mit unserem Partnerunternehmen Robert's Reisen. 4 wunderbare T
 age mit Tagesgepäck. Details siehe Beschreibung. Kleingruppe max. 8 Pers.
 ! AUSGEBUCHT - Warteliste möglich!\nhttps://touren-termine.adfc.de/radver
 anstaltung/115528-4tage-schwabische-alb-erlebenalbtalertour-voll
DTEND:20240613T160000Z
DTSTAMP:20260425T184344Z
DTSTART:20240610T053000Z
LOCATION:Bahnhof Kaufbeuren\, Parkplatz Südseite\, Zufahrt über Schelmenho
 fstraße\, 87600 Kaufbeuren
SEQUENCE:0
SUMMARY:4-Tage Schwäbische Alb erleben-Albtälertour - voll
UID:1f545781-ffff-4f99-9aa1-f5c7b7945695
URL:https://touren-termine.adfc.de/radveranstaltung/115528-4tage-schwabisc
 he-alb-erlebenalbtalertour-voll
END:VEVENT
END:VCALENDAR
