BEGIN:VCALENDAR
PRODID:-//github.com/rianjs/ical.net//NONSGML ical.net 4.0//EN
VERSION:2.0
BEGIN:VEVENT
DESCRIPTION:Von Oranienburg auf Schleichwegen in den Norden Berlins zum Bü
 rgerpark nach Pankow und wieder zurück.\nhttps://touren-termine.adfc.de/r
 adveranstaltung/136539-bolletour-nach-pankow
DTEND:20240922T150000Z
DTSTAMP:20260425T232212Z
DTSTART:20240922T080000Z
LOCATION:Bahnhof\, 16515 Oranienburg
SEQUENCE:0
SUMMARY:Bolletour nach Pankow
UID:658ce445-3bd1-4c42-b2e6-26dad5a37624
URL:https://touren-termine.adfc.de/radveranstaltung/136539-bolletour-nach-
 pankow
END:VEVENT
END:VCALENDAR
