BEGIN:VCALENDAR
PRODID:-//github.com/rianjs/ical.net//NONSGML ical.net 4.0//EN
VERSION:2.0
BEGIN:VEVENT
DESCRIPTION:11:00 Uhr Treff am Bökelbergdenkmal. Gemeinsame Fahrt zum Boru
 ssia-Park. Programm bis zum Einlass.\nhttps://touren-termine.adfc.de/radv
 eranstaltung/198029-2-adfcborussiafanfahrt-zum-letzten-heimspiel
DTEND:20260516T123000Z
DTSTAMP:20260424T230759Z
DTSTART:20260516T090000Z
LOCATION:In de Kull 15\, 41063 Mönchengladbach
SEQUENCE:0
SUMMARY:2. ADFC-Borussia-Fanfahrt zum letzten Heimspiel
UID:97d5abe4-b01c-4685-8d83-3023e9420225
URL:https://touren-termine.adfc.de/radveranstaltung/198029-2-adfcborussiaf
 anfahrt-zum-letzten-heimspiel
END:VEVENT
END:VCALENDAR
