BEGIN:VCALENDAR
PRODID:-//github.com/rianjs/ical.net//NONSGML ical.net 4.0//EN
VERSION:2.0
BEGIN:VEVENT
DESCRIPTION:Wir erkunden gemeinsam die Siegener Umweltspur\nhttps://touren
 -termine.adfc.de/radveranstaltung/138458-flanieren-auf-der-umweltspur
DTEND:20240905T190000Z
DTSTAMP:20260423T031247Z
DTSTART:20240905T170000Z
LOCATION:Bahnhof Weidenau\, 57076 Siegen
SEQUENCE:0
SUMMARY:Flanieren auf der Umweltspur
UID:9546cbda-345b-4d8e-abd2-11ec0c3b9a17
URL:https://touren-termine.adfc.de/radveranstaltung/138458-flanieren-auf-d
 er-umweltspur
END:VEVENT
END:VCALENDAR
