BEGIN:VCALENDAR
PRODID:-//github.com/rianjs/ical.net//NONSGML ical.net 4.0//EN
VERSION:2.0
BEGIN:VEVENT
DESCRIPTION:Wir radeln eine gemütliche Runde zu verschiedenen Zielen in de
 r Stadt und genießen dabei Hamburg-Flair\, Natur und Adfc-Geselligkeit. \
 nNicht bei Regenwetter.\nhttps://touren-termine.adfc.de/radveranstaltung/
 129434-wandsbeker-feierabendcruise
DTEND:20240801T183000Z
DTSTAMP:20260420T230637Z
DTSTART:20240801T163000Z
LOCATION:Liegewiese im Eichtalpark mit ovaler Skulptur\, 22041 Hamburg\, W
 andsbek
SEQUENCE:0
SUMMARY:Wandsbeker Feierabendcruise
UID:904298b9-afc6-4fbc-8190-c93502f19751
URL:https://touren-termine.adfc.de/radveranstaltung/129434-wandsbeker-feie
 rabendcruise
END:VEVENT
END:VCALENDAR
