BEGIN:VCALENDAR
PRODID:-//github.com/rianjs/ical.net//NONSGML ical.net 4.0//EN
VERSION:2.0
BEGIN:VEVENT
DESCRIPTION:Jeden Montag findet morgens eine Radtour statt.\nhttps://toure
 n-termine.adfc.de/radveranstaltung/145467-montag-morgen-tour
DTEND:20241216T110000Z
DTSTAMP:20260423T201623Z
DTSTART:20241216T090000Z
LOCATION:In der Ahe 29\, 27356 Rotenburg
SEQUENCE:0
SUMMARY:Montag Morgen Tour
UID:9623c201-aa8e-420d-856b-041d50363b5b
URL:https://touren-termine.adfc.de/radveranstaltung/145467-montag-morgen-t
 our
END:VEVENT
END:VCALENDAR
