BEGIN:VCALENDAR
PRODID:-//github.com/rianjs/ical.net//NONSGML ical.net 4.0//EN
VERSION:2.0
BEGIN:VEVENT
DESCRIPTION:Niemand ist perfekt\, das Radwegesystem in Cuxhaven schon gar 
 nicht!\nWir unterhalten uns über alle Dinge rund ums Fahrrad und nehmen W
 ünsche und Anregungen an.\nhttps://touren-termine.adfc.de/radveranstaltun
 g/142267-kaffeestunde
DTEND:20250915T150000Z
DTSTAMP:20260421T022331Z
DTSTART:20250915T130000Z
LOCATION:Bürgerbahnhof\, Am Bahnhof 1\, 27472 Cuxhaven
SEQUENCE:0
SUMMARY:Kaffeestunde
UID:be70a5bf-da38-4193-8bd0-dd74b7aaead9
URL:https://touren-termine.adfc.de/radveranstaltung/142267-kaffeestunde
END:VEVENT
END:VCALENDAR
