BEGIN:VCALENDAR
PRODID:-//github.com/rianjs/ical.net//NONSGML ical.net 4.0//EN
VERSION:2.0
BEGIN:VEVENT
DESCRIPTION:Monatliches Treffen aller Radverkehrsinteressenten\nhttps://to
 uren-termine.adfc.de/radveranstaltung/140127-offentlicher-radlertreff
DTEND:20250325T200000Z
DTSTAMP:20260423T183234Z
DTSTART:20250325T180000Z
LOCATION:Gartenstraße 10\, 30938 Burgwedel
SEQUENCE:0
SUMMARY:Öffentlicher Radlertreff
UID:775e9b4a-668a-4c3c-87b4-6aea0fb39578
URL:https://touren-termine.adfc.de/radveranstaltung/140127-offentlicher-ra
 dlertreff
END:VEVENT
END:VCALENDAR
