BEGIN:VCALENDAR
PRODID:-//github.com/rianjs/ical.net//NONSGML ical.net 4.0//EN
VERSION:2.0
BEGIN:VEVENT
DESCRIPTION:Wir stricken uns die Fahrradstadt - Mobilität ist nicht männli
 ch! Der Blick von FLINTA auf die Verkehrswende ist in der Stadtplanung un
 terrepräsentiert. Wir wollen das ändern!\nhttps://touren-termine.adfc.de/
 radveranstaltung/168237-cyclistaclub
DTEND:20250717T190000Z
DTSTAMP:20260420T230901Z
DTSTART:20250717T160000Z
LOCATION:Osterbrookplatz 18\, 20537 Hamburg
SEQUENCE:0
SUMMARY:Cyclista*Club
UID:bf2d3117-501c-412b-9164-86a35a0624aa
URL:https://touren-termine.adfc.de/radveranstaltung/168237-cyclistaclub
END:VEVENT
END:VCALENDAR
