BEGIN:VCALENDAR
PRODID:-//github.com/rianjs/ical.net//NONSGML ical.net 4.0//EN
VERSION:2.0
BEGIN:VEVENT
DESCRIPTION:Treffen der AG Verkehr des ADFC Bochum\nhttps://touren-termine
 .adfc.de/radveranstaltung/152903-ag-verkehr
DTEND:20250807T183000Z
DTSTAMP:20260420T145956Z
DTSTART:20250807T163000Z
LOCATION:Alsenstraße 27\, 44789 Bochum
SEQUENCE:0
SUMMARY:AG Verkehr
UID:41236c77-eb6d-4464-8738-74830a884c2e
URL:https://touren-termine.adfc.de/radveranstaltung/152903-ag-verkehr
END:VEVENT
END:VCALENDAR
