BEGIN:VCALENDAR
PRODID:-//github.com/rianjs/ical.net//NONSGML ical.net 4.0//EN
VERSION:2.0
BEGIN:VEVENT
DESCRIPTION:Wer schreibt? Wer schreibt mit? "Sicherheit im Verkehr" ist da
 s Ober-Thema für die nächste HannoRad-Ausgabe. Wer in Langenhagen mitschr
 eiben möchte\, melde sich VORHER beim ADFC Langenhagen.\nhttps://touren-t
 ermine.adfc.de/radveranstaltung/167219-redaktionsschluss-hannorad-32025
DTEND:20250831T215500Z
DTSTAMP:20260424T173204Z
DTSTART:20250830T220500Z
LOCATION:Zentraler ADFC Stützpunkt\, 30853 Langenhagen
SEQUENCE:0
SUMMARY:Redaktionsschluss HannoRad 3/2025ⓇⓈ
UID:3990edef-e4bb-4833-9384-501d6905b256
URL:https://touren-termine.adfc.de/radveranstaltung/167219-redaktionsschlu
 ss-hannorad-32025
END:VEVENT
END:VCALENDAR
