BEGIN:VCALENDAR
PRODID:-//github.com/rianjs/ical.net//NONSGML ical.net 4.0//EN
VERSION:2.0
BEGIN:VEVENT
DESCRIPTION:Wir übernehmen den bewachten Fahrradstellplatz zum Firmenlauf 
 von 17 bis 20 Uhr\nhttps://touren-termine.adfc.de/radveranstaltung/167781
 -firmenlauf-bad-berleburg-2025-fahrradstellplatz
DTEND:20250618T180000Z
DTSTAMP:20260423T031208Z
DTSTART:20250618T150000Z
LOCATION:Bistro Kaffeemühle\, 57319 Bad Berleburg
SEQUENCE:0
SUMMARY:Firmenlauf Bad Berleburg 2025 Fahrradstellplatz
UID:0668a940-0de7-436a-affb-f44fb2b3380e
URL:https://touren-termine.adfc.de/radveranstaltung/167781-firmenlauf-bad-
 berleburg-2025-fahrradstellplatz
END:VEVENT
END:VCALENDAR
