BEGIN:VCALENDAR
PRODID:-//github.com/rianjs/ical.net//NONSGML ical.net 4.0//EN
VERSION:2.0
BEGIN:VEVENT
DESCRIPTION:Am vierten Freitag im Monat steht unsere Ausfahrt unter dem Mo
 tto Sichtbarkeit des Radverkehrs\, Sicherheitsmängel und Schwächen der Ro
 utenführung und Beschilderung\nhttps://touren-termine.adfc.de/radveransta
 ltung/161735-kritische-tour-wemlighausen-girkhausen
DTEND:20250425T173000Z
DTSTAMP:20260423T064707Z
DTSTART:20250425T150000Z
LOCATION:Unterm Höllscheid\, 57319 Bad Berleburg
SEQUENCE:0
SUMMARY:Kritische Tour: Wemlighausen\, Girkhausen
UID:769d6e6f-1b40-4aed-aa2e-863ef2b82faf
URL:https://touren-termine.adfc.de/radveranstaltung/161735-kritische-tour-
 wemlighausen-girkhausen
END:VEVENT
END:VCALENDAR
