BEGIN:VCALENDAR
PRODID:-//github.com/rianjs/ical.net//NONSGML ical.net 4.0//EN
VERSION:2.0
BEGIN:VEVENT
DESCRIPTION:Wir radeln  von Stadthagen über Sachsenhagen\, Wiedenberügge u
 nd Winzlar nach Mardorf zum Kunsthandwerker-Markt. Nach einer Stunde zum 
 Bummeln starten heimwärts.\nhttps://touren-termine.adfc.de/radveranstaltu
 ng/178547-kunsthandwerkermarkt-in-mardorf
DTEND:20261003T150000Z
DTSTAMP:20260420T174604Z
DTSTART:20261003T080000Z
LOCATION:Marktplatz \,Marktbrunnen\, 31655 Stadthagen
SEQUENCE:0
SUMMARY:Kunsthandwerkermarkt in Mardorf
UID:34e069c7-4724-433a-bdb4-c194b4942ec8
URL:https://touren-termine.adfc.de/radveranstaltung/178547-kunsthandwerker
 markt-in-mardorf
END:VEVENT
END:VCALENDAR
