BEGIN:VCALENDAR
PRODID:-//github.com/rianjs/ical.net//NONSGML ical.net 4.0//EN
VERSION:2.0
BEGIN:VEVENT
DESCRIPTION:Auch in 2026 beteiligt sich die Stadt Gelsenkirchen am Stadtra
 deln. Es wird am 1. Samstag im Mai begonnen. Unser Team heißt „ADFC-Mit d
 em Rad für eine bessere Stadt“\nhttps://touren-termine.adfc.de/radveranst
 altung/197329-stadtradeln-2026
DTEND;VALUE=DATE:20260519
DTSTAMP:20260423T191818Z
DTSTART;VALUE=DATE:20260519
LOCATION:überall mit dem ADFC Gelsenkirchen\, Hertastraße 22\, 45888 Gelse
 nkirchen
SEQUENCE:0
SUMMARY:Stadtradeln 2026
UID:6ff9de7a-3a3b-464e-931f-ab3142a7ea86
URL:https://touren-termine.adfc.de/radveranstaltung/197329-stadtradeln-2026
END:VEVENT
END:VCALENDAR
