BEGIN:VCALENDAR
PRODID:-//github.com/rianjs/ical.net//NONSGML ical.net 4.0//EN
VERSION:2.0
BEGIN:VEVENT
DESCRIPTION:Über Buir radeln wir nach Düren.Hier Einkehr im Biergarten an 
 der Rur. Info u. Anmeldung bis 11.06.26 bei Rainer Böning\, T.:02271-6502
 0\, \nMail: rainer.boening@adfc-rhein-erft.de\nhttps://touren-termine.adf
 c.de/radveranstaltung/195097-zum-biergarten-an-der-rur-bei-duren
DTEND:20260613T170000Z
DTSTAMP:20260424T163545Z
DTSTART:20260613T073000Z
LOCATION:Am Aachener Tor\, Hauptstraße\, 50126 Bergheim
SEQUENCE:0
SUMMARY:Zum Biergarten an der Rur bei Düren
UID:93d2ad12-15a2-4e4a-ab9e-4e28a1026f53
URL:https://touren-termine.adfc.de/radveranstaltung/195097-zum-biergarten-
 an-der-rur-bei-duren
END:VEVENT
END:VCALENDAR
