BEGIN:VCALENDAR
PRODID:-//github.com/rianjs/ical.net//NONSGML ical.net 4.0//EN
VERSION:2.0
BEGIN:VEVENT
DESCRIPTION:Dienstags & Donnerstags zwischen 18:00 und 20:00 Uhr kann dort
  jeder\, sein Fahrrad eigenverantwortlich selbst reparieren - wenn nötig 
 unter Anleitung oder Mithilfe unsere Werkstattteams\nhttps://touren-termi
 ne.adfc.de/radveranstaltung/176016-selbsthilfewerkstatt-ist-geoffnet
DTEND:20261013T180000Z
DTSTAMP:20260424T145011Z
DTSTART:20261013T160000Z
LOCATION:Weinweg 2\, 93049 Regensburg
SEQUENCE:0
SUMMARY:Selbsthilfewerkstatt ist geöffnet
UID:772ec678-47ff-4974-a4ac-74c74c1ab4a6
URL:https://touren-termine.adfc.de/radveranstaltung/176016-selbsthilfewerk
 statt-ist-geoffnet
END:VEVENT
END:VCALENDAR
