BEGIN:VCALENDAR
PRODID:-//github.com/rianjs/ical.net//NONSGML ical.net 4.0//EN
VERSION:2.0
BEGIN:VEVENT
DESCRIPTION:Altmühltour\nhttps://touren-termine.adfc.de/radveranstaltung/8
 4538-altmuhltour
DTEND:20230820T130000Z
DTSTAMP:20260421T101154Z
DTSTART:20230818T060000Z
LOCATION:Bahnhofplatz\, 91301 Forchheim
SEQUENCE:0
SUMMARY:Altmühltour
UID:02fb731d-a91f-4c9d-8e95-8d928a3744d0
URL:https://touren-termine.adfc.de/radveranstaltung/84538-altmuhltour
END:VEVENT
END:VCALENDAR
