BEGIN:VCALENDAR
PRODID:-//github.com/rianjs/ical.net//NONSGML ical.net 4.0//EN
VERSION:2.0
BEGIN:VEVENT
DESCRIPTION:Unsere Geschäftsstelle ist für alle Anliegen und offenen Frage
 n geöffnet.\nhttps://touren-termine.adfc.de/radveranstaltung/147986-offnu
 ngszeit-unserer-geschaftsstelle
DTEND:20250912T160000Z
DTSTAMP:20260421T121152Z
DTSTART:20250912T140000Z
LOCATION:Essen (Innenstadt)\, ADFC Essen Geschäftsstelle\, Rottstraße 5\, 
 45127 Essen
SEQUENCE:0
SUMMARY:Öffnungszeit unserer Geschäftsstelle
UID:6b4ec648-a3f0-464b-a0f9-6aa088fabbdb
URL:https://touren-termine.adfc.de/radveranstaltung/147986-offnungszeit-un
 serer-geschaftsstelle
END:VEVENT
END:VCALENDAR
