BEGIN:VCALENDAR
PRODID:-//github.com/rianjs/ical.net//NONSGML ical.net 4.0//EN
VERSION:2.0
BEGIN:VEVENT
DESCRIPTION:Wir fahren bei OF über den Main und über Bischofsheim. Dann ge
 ht es die Hohe Straße entlang. Anmeldung notwendig.\nhttps://touren-termi
 ne.adfc.de/radveranstaltung/122779-die-hohe-strasse-entlang
DTEND:20240512T160000Z
DTSTAMP:20260423T191413Z
DTSTART:20240512T073000Z
LOCATION:Lindenplatz\, 63303 Sprendlingen
SEQUENCE:0
SUMMARY:Die Hohe Straße entlang
UID:487a13c3-b0da-43b6-a4ca-a52d7f7a82cf
URL:https://touren-termine.adfc.de/radveranstaltung/122779-die-hohe-strass
 e-entlang
END:VEVENT
END:VCALENDAR
