BEGIN:VCALENDAR
PRODID:-//github.com/rianjs/ical.net//NONSGML ical.net 4.0//EN
VERSION:2.0
BEGIN:VEVENT
DESCRIPTION:Die Bezirksgruppe Altona setzt sich für den Radverkehr in alle
 n Straßen und Stadtteilen von Rissen bis Sternschanze ein.\nhttps://toure
 n-termine.adfc.de/radveranstaltung/132579-bezirksgruppe-altona
DTEND:20261118T200000Z
DTSTAMP:20260420T231803Z
DTSTART:20261118T180000Z
LOCATION:Flavour Court im Othmarscher Tennis-Club\, 22763 Hamburg\, Othmar
 schen
SEQUENCE:0
SUMMARY:Bezirksgruppe Altona
UID:ffae2b54-536b-40f4-90eb-d206aecdb022
URL:https://touren-termine.adfc.de/radveranstaltung/132579-bezirksgruppe-a
 ltona
END:VEVENT
END:VCALENDAR
