BEGIN:VCALENDAR
PRODID:-//github.com/rianjs/ical.net//NONSGML ical.net 4.0//EN
VERSION:2.0
BEGIN:VEVENT
DESCRIPTION:Du lebst in Neukölln und möchtest dich für ein menschengerecht
 es\, klimagerechtes und fahrradfreundliches Neukölln einsetzen?\nDann kom
 m dazu!\nhttps://touren-termine.adfc.de/radveranstaltung/175577-treffen-d
 er-stadtteilgruppe-neukolln
DTEND:20251201T200000Z
DTSTAMP:20260424T203527Z
DTSTART:20251201T180000Z
LOCATION:TiB-Casino\, Columbiadamm 111\, 10965 Berlin
SEQUENCE:0
SUMMARY:Treffen der Stadtteilgruppe Neukölln
UID:10cd70b4-14dd-479d-b3e1-1c25657e6c31
URL:https://touren-termine.adfc.de/radveranstaltung/175577-treffen-der-sta
 dtteilgruppe-neukolln
END:VEVENT
END:VCALENDAR
