BEGIN:VCALENDAR
PRODID:-//github.com/rianjs/ical.net//NONSGML ical.net 4.0//EN
VERSION:2.0
BEGIN:VEVENT
DESCRIPTION:Unsere Geschäftsstelle ist für alle Anliegen und offenen Frage
 n geöffnet.\nhttps://touren-termine.adfc.de/radveranstaltung/147953-offnu
 ngszeit-unserer-geschaftsstelle
DTEND:20250131T170000Z
DTSTAMP:20260421T121021Z
DTSTART:20250131T150000Z
LOCATION:Essen (Innenstadt)\, ADFC Essen Geschäftsstelle\, Rottstraße 5\, 
 45127 Essen
SEQUENCE:0
SUMMARY:Öffnungszeit unserer Geschäftsstelle
UID:24dd40b8-63ae-442d-ac8e-5f541ee316fd
URL:https://touren-termine.adfc.de/radveranstaltung/147953-offnungszeit-un
 serer-geschaftsstelle
END:VEVENT
END:VCALENDAR
