BEGIN:VCALENDAR
PRODID:-//github.com/rianjs/ical.net//NONSGML ical.net 4.0//EN
VERSION:2.0
BEGIN:VEVENT
DESCRIPTION:Weilheim -  Polling - Huglfing - Weilheim\nhttps://touren-term
 ine.adfc.de/radveranstaltung/193641-radtour-zum-klimafruhling-zusammen-mi
 t-pro-bahn
DTEND:20260502T160000Z
DTSTAMP:20260421T101917Z
DTSTART:20260502T120000Z
LOCATION:Bahnhof Weilheim (Ostseite\, Busbahnhof)\, 82362 Weilheim in Ober
 bayern
SEQUENCE:0
SUMMARY:Radtour zum Klimafrühling (zusammen mit Pro Bahn)
UID:a0a95267-b7f5-40fd-b03d-e14a0ca874c1
URL:https://touren-termine.adfc.de/radveranstaltung/193641-radtour-zum-kli
 mafruhling-zusammen-mit-pro-bahn
END:VEVENT
END:VCALENDAR
