BEGIN:VCALENDAR
PRODID:-//github.com/rianjs/ical.net//NONSGML ical.net 4.0//EN
VERSION:2.0
BEGIN:VEVENT
DESCRIPTION:Wir treffen uns meist jeden 1. Donnerstag eines Monats (außer 
 August) um 19:00 Uhr im Gasthaus Belfort in Kaufbeuren\, Mindelheimer Str
 . 35. Fahrrad-Codierung möglich.\nhttps://touren-termine.adfc.de/radveran
 staltung/174101-adfc-radlerstammtisch
DTEND:20260108T200000Z
DTSTAMP:20260419T155606Z
DTSTART:20260108T180000Z
LOCATION:Gasthaus Belfort\, Mindelheimer Straße 35\, 87600 Kaufbeuren
SEQUENCE:0
SUMMARY:ADFC Radler-Stammtisch
UID:0c275ab3-d6a3-4366-bc43-dab6a1bbd16c
URL:https://touren-termine.adfc.de/radveranstaltung/174101-adfc-radlerstam
 mtisch
END:VEVENT
END:VCALENDAR
