BEGIN:VCALENDAR
PRODID:-//github.com/rianjs/ical.net//NONSGML ical.net 4.0//EN
VERSION:2.0
BEGIN:VEVENT
DESCRIPTION:Diese Weihnachtstour führt uns zum Seppche nach Schwanheim. Na
 ch der Einkehr geht es auf einem anderen Weg zurück nach Dreieich. Anmeld
 ung notwendig.\nhttps://touren-termine.adfc.de/radveranstaltung/144938-we
 ihnachtstour-zum-seppche
DTEND:20251224T140000Z
DTSTAMP:20260423T191529Z
DTSTART:20251224T090000Z
LOCATION:Lindenplatz\, 63303 Sprendlingen
SEQUENCE:0
SUMMARY:Weihnachtstour zum Seppche
UID:5b7e0a05-6bf4-4df0-948f-47d2bd1d5a39
URL:https://touren-termine.adfc.de/radveranstaltung/144938-weihnachtstour-
 zum-seppche
END:VEVENT
END:VCALENDAR
