BEGIN:VCALENDAR
PRODID:-//github.com/rianjs/ical.net//NONSGML ical.net 4.0//EN
VERSION:2.0
BEGIN:VEVENT
DESCRIPTION:Ab in den Norden – unter diesem Motto führt die vom ADFC erarb
 eitete Strecke von Duisburg Richtung Norden bis Baerl und zurück in die I
 nnenstadt.\nhttps://touren-termine.adfc.de/radveranstaltung/138824-41-dui
 sburger-radwanderung-familien
DTEND:20240908T150000Z
DTSTAMP:20260423T143826Z
DTSTART:20240908T070000Z
LOCATION:Königstraße\, 47051 Duisburg
SEQUENCE:0
SUMMARY:41. Duisburger Radwanderung Familien
UID:38a1ebdd-ef38-46e9-b1f0-5b2058bc034c
URL:https://touren-termine.adfc.de/radveranstaltung/138824-41-duisburger-r
 adwanderung-familien
END:VEVENT
END:VCALENDAR
