BEGIN:VCALENDAR
PRODID:-//github.com/rianjs/ical.net//NONSGML ical.net 4.0//EN
VERSION:2.0
BEGIN:VEVENT
DESCRIPTION:Gemeinsam erarbeiten wir\, wie mehr Sicherheit für Kinder und 
 Jugendliche im Hamburger Stadtverkehr erreicht werden kann.\nhttps://tour
 en-termine.adfc.de/radveranstaltung/158502-pg-schulwege-kinder-und-jugend
 mobilitat
DTEND:20250325T200000Z
DTSTAMP:20260420T231748Z
DTSTART:20250325T180000Z
LOCATION:Koppel 34-36\, 20099 Hamburg
SEQUENCE:0
SUMMARY:PG "Schulwege\, Kinder- und Jugendmobilität"
UID:96fac757-37d7-4059-8a35-7f0ca098d6a4
URL:https://touren-termine.adfc.de/radveranstaltung/158502-pg-schulwege-ki
 nder-und-jugendmobilitat
END:VEVENT
END:VCALENDAR
