BEGIN:VCALENDAR
PRODID:-//github.com/rianjs/ical.net//NONSGML ical.net 4.0//EN
VERSION:2.0
BEGIN:VEVENT
DESCRIPTION:Alle Mitglieder*innen und interessierte Bürger*innen sind herz
 lich eingeladen.\nBesprochen werden aktuelle Radthemen\, heute schon mal 
 ein Blick auf 2025.\nhttps://touren-termine.adfc.de/radveranstaltung/1410
 85-treffen-der-oranienburger-ortsgruppe
DTEND:20241030T190000Z
DTSTAMP:20260425T200915Z
DTSTART:20241030T170000Z
LOCATION:Altstadtklause\, Havelstr. 16\, 16515 Oranienburg
SEQUENCE:0
SUMMARY:Treffen der Oranienburger Ortsgruppe
UID:f2020dde-1503-40f3-9ccb-53e7c0f6a818
URL:https://touren-termine.adfc.de/radveranstaltung/141085-treffen-der-ora
 nienburger-ortsgruppe
END:VEVENT
END:VCALENDAR
