BEGIN:VCALENDAR
PRODID:-//github.com/rianjs/ical.net//NONSGML ical.net 4.0//EN
VERSION:2.0
BEGIN:VEVENT
DESCRIPTION:Geschichts-Tour für Neubürger und weitere Wissbegierige durch 
 die Moorwegsiedlung.\nhttps://touren-termine.adfc.de/radveranstaltung/102
 590-neugierig-geschichtstour-moorwegsiedlung
DTEND:20231015T150000Z
DTSTAMP:20260419T181846Z
DTSTART:20231015T120000Z
LOCATION:S-Bahnhof Wedel\, 22880 Wedel
SEQUENCE:0
SUMMARY:Neu(gierig)? Geschichtstour Moorwegsiedlung
UID:733f4f9f-8578-43a3-9a40-50d82ca5ef12
URL:https://touren-termine.adfc.de/radveranstaltung/102590-neugierig-gesch
 ichtstour-moorwegsiedlung
END:VEVENT
END:VCALENDAR
