BEGIN:VCALENDAR
PRODID:-//github.com/rianjs/ical.net//NONSGML ical.net 4.0//EN
VERSION:2.0
BEGIN:VEVENT
DESCRIPTION:Rauf aufs Rad für eine Spritztour in die Umgebung von Gauting!
 \nWöchentlich wechselnd naturkundliche Touren und Cappuccino-Touren.\nhtt
 ps://touren-termine.adfc.de/radveranstaltung/119293-wochentliche-nachmitt
 agstour-in-gauting
DTEND:20240625T150000Z
DTSTAMP:20260425T150446Z
DTSTART:20240625T120000Z
LOCATION:Rathaus\, Bahnhofstraße 7\, 82131 Gauting
SEQUENCE:0
SUMMARY:Wöchentliche Nachmittagstour in Gauting
UID:e5ad51b2-04c6-4072-a7b1-d20edbb31ac0
URL:https://touren-termine.adfc.de/radveranstaltung/119293-wochentliche-na
 chmittagstour-in-gauting
END:VEVENT
END:VCALENDAR
