BEGIN:VCALENDAR
PRODID:-//github.com/rianjs/ical.net//NONSGML ical.net 4.0//EN
VERSION:2.0
BEGIN:VEVENT
DESCRIPTION:Die Feierabendtour startet um 17 Uhr am Bootshafen und führt a
 uf überwiegend befestigten Wegen durch die LH Kiel. Nach ca. zwei Stunden
  endet die Tour zum Ausklang bei der Firma KVP in Projensdorf.\nhttps://t
 ouren-termine.adfc.de/radveranstaltung/137726-feierabendtour-im-rahmen-de
 s-stadtradelns-2024
DTEND:20240911T170000Z
DTSTAMP:20260421T112233Z
DTSTART:20240911T150000Z
LOCATION:Wall 2-12\, 24103 Kiel
SEQUENCE:0
SUMMARY:Feierabendtour im Rahmen des Stadtradelns 2024
UID:45fe17ab-cf0d-4abd-8b9f-dee414049b19
URL:https://touren-termine.adfc.de/radveranstaltung/137726-feierabendtour-
 im-rahmen-des-stadtradelns-2024
END:VEVENT
END:VCALENDAR
