BEGIN:VCALENDAR
PRODID:-//github.com/rianjs/ical.net//NONSGML ical.net 4.0//EN
VERSION:2.0
BEGIN:VEVENT
DESCRIPTION:Auf der ehemaligen Strecke der Kleinbahn „Haspe-Voerde-Brecker
 feld" fahren wir durch ein traditionsreiches Naherholungsgebiet bis zur H
 ansestadt Breckerfeld mit anschließender genussvoller Abfahrt.\nhttps://t
 ouren-termine.adfc.de/radveranstaltung/90605-sanfte-anstiege
DTEND:20230928T160000Z
DTSTAMP:20260421T101044Z
DTSTART:20230928T080000Z
LOCATION:Wuppertal Hauptbahnhof Gleis 5\,  S 8 nach Hagen\, 42119 Wuppertal
SEQUENCE:0
SUMMARY:Sanfte Anstiege
UID:02738d08-a84c-4d89-bf49-5d152497e8c1
URL:https://touren-termine.adfc.de/radveranstaltung/90605-sanfte-anstiege
END:VEVENT
END:VCALENDAR
