BEGIN:VCALENDAR
PRODID:-//github.com/rianjs/ical.net//NONSGML ical.net 4.0//EN
VERSION:2.0
BEGIN:VEVENT
DESCRIPTION:Eine  ca. 2-stündige Radtour in der nahen Umgebung und ein gem
 einsames\, gemütliches Picknick unter alten Lindenbäume ist diesem Tag ge
 widmet.\nhttps://touren-termine.adfc.de/radveranstaltung/165622-picknick-
 unter-den-linden
DTEND:20260608T180000Z
DTSTAMP:20260424T230926Z
DTSTART:20260608T153000Z
LOCATION:Schauturm im LGS-Gelände\, Dr.-Kurz-Str.\,\, 92318 Neumarkt in de
 r Oberpfalz
SEQUENCE:0
SUMMARY:Picknick unter den Linden
UID:6b924025-0711-447f-8c28-1703fb8ba77f
URL:https://touren-termine.adfc.de/radveranstaltung/165622-picknick-unter-
 den-linden
END:VEVENT
END:VCALENDAR
