BEGIN:VCALENDAR
PRODID:-//github.com/rianjs/ical.net//NONSGML ical.net 4.0//EN
VERSION:2.0
BEGIN:VEVENT
DESCRIPTION:An der Niers entlang\, vorbei an Oedt und Grefrath\, queren wi
 r den "Großer de-Witt-See" und gelangen so zur Einkehr im Hofcafe Alt Bru
 ch. Gut gestärkt geht es über Nettebruch und Viersen zurück .\nhttps://to
 uren-termine.adfc.de/radveranstaltung/107294-zum-hofcafe-alt-bruch-nettet
 al
DTEND:20230930T160000Z
DTSTAMP:20260421T204209Z
DTSTART:20230930T070000Z
LOCATION:Hamtorplatz\, 41460 Neuss
SEQUENCE:0
SUMMARY:Zum Hofcafe Alt Bruch\, Nettetal
UID:6cb2304e-5101-424b-a10d-96604ee81ef7
URL:https://touren-termine.adfc.de/radveranstaltung/107294-zum-hofcafe-alt
 -bruch-nettetal
END:VEVENT
END:VCALENDAR
