BEGIN:VCALENDAR
PRODID:-//github.com/rianjs/ical.net//NONSGML ical.net 4.0//EN
VERSION:2.0
BEGIN:VEVENT
DESCRIPTION:Das bewährte Fahrsicherheitstraining steigert Können und Wisse
 n der Teilnehmer durch praktische Übungen einzeln und in der Gruppe. \nDi
 e Teilnehmer sind begeistert von ihrem Lernerfolg.\nhttps://touren-termin
 e.adfc.de/radveranstaltung/184399-fahrsicherheitstraining-grundkurs-etour
 enrad-kf
DTEND:20260713T170000Z
DTSTAMP:20260419T191815Z
DTSTART:20260713T140000Z
LOCATION:Honoldstraße\, 87600 Kaufbeuren
SEQUENCE:0
SUMMARY:Fahrsicherheitstraining Grundkurs E-Tourenrad\, KF
UID:3ddfcea6-89a9-48a8-b666-6aa1df894e45
URL:https://touren-termine.adfc.de/radveranstaltung/184399-fahrsicherheits
 training-grundkurs-etourenrad-kf
END:VEVENT
END:VCALENDAR
