BEGIN:VCALENDAR
PRODID:-//github.com/rianjs/ical.net//NONSGML ical.net 4.0//EN
VERSION:2.0
BEGIN:VEVENT
DESCRIPTION:Interessierte Fahrradfreunde sind zum Aktiventreffen herzlich 
 willkommen!\nhttps://touren-termine.adfc.de/radveranstaltung/149917-adfc-
 aktiventreffen
DTEND:20251218T193000Z
DTSTAMP:20260420T150320Z
DTSTART:20251218T173000Z
LOCATION:Alsenstraße 27\, 44789 Bochum
SEQUENCE:0
SUMMARY:ADFC Aktiventreffen
UID:ff39f3b7-5d50-4a12-ba02-705d7986d268
URL:https://touren-termine.adfc.de/radveranstaltung/149917-adfc-aktiventre
 ffen
END:VEVENT
END:VCALENDAR
