BEGIN:VCALENDAR
PRODID:-//github.com/rianjs/ical.net//NONSGML ical.net 4.0//EN
VERSION:2.0
BEGIN:VEVENT
DESCRIPTION:Mahnwache für den in der Liebigstraße getöteten Radfahrer\nhtt
 ps://touren-termine.adfc.de/radveranstaltung/198700-mahnwache-fur-getotet
 e-radfahrer
DTEND:20260426T160000Z
DTSTAMP:20260424T143009Z
DTSTART:20260426T150000Z
LOCATION:Liebigstraße 68 / Kreuzung Moorfleeter Straße\, 22113 Hamburg
SEQUENCE:0
SUMMARY:Mahnwache für getötete Radfahrer
UID:afced34b-0b9b-416b-9763-c5e16738e8b7
URL:https://touren-termine.adfc.de/radveranstaltung/198700-mahnwache-fur-g
 etotete-radfahrer
END:VEVENT
END:VCALENDAR
