BEGIN:VCALENDAR
PRODID:-//github.com/rianjs/ical.net//NONSGML ical.net 4.0//EN
VERSION:2.0
BEGIN:VEVENT
DESCRIPTION:Es gehrt wieder lohos: Der Repair-Treff im Gemeindehaus der Zw
 ölf-Apostel-Kirche öffnet von 16 bis 18 Uhr und hilft bei Reparaturen all
 er Art. Und: Das Repair-Team freut sich auf alles\, was kommt ...\nhttps:
 //touren-termine.adfc.de/radveranstaltung/142903-externer-tipp-repairtref
 f-12-apostel-
DTEND:20250508T160000Z
DTSTAMP:20260424T173054Z
DTSTART:20250508T140000Z
LOCATION:Zwölf-Apostel: Kirche und Gemeindehaus\, Weserweg 3\, 30851 Lange
 nhagen
SEQUENCE:0
SUMMARY:Externer Tipp: "Repair-Treff 12 Apostel" ⓇⓈ
UID:1d8fc641-1601-42d8-ad79-12caf30817ad
URL:https://touren-termine.adfc.de/radveranstaltung/142903-externer-tipp-r
 epairtreff-12-apostel-
END:VEVENT
END:VCALENDAR
