BEGIN:VCALENDAR
PRODID:-//github.com/rianjs/ical.net//NONSGML ical.net 4.0//EN
VERSION:2.0
BEGIN:VEVENT
DESCRIPTION:Wald- und Feldwege führen uns durch und um die Dörfer südlich 
 des Ferndorftales. Abfahrten oft auf  kleinen Teerstraßen. Viel Wald\, ei
 nige Fernblicke. Idyllische Landschaft. Anmeldung erwünscht.\nhttps://tou
 ren-termine.adfc.de/radveranstaltung/118875-pedelec-feierabendtour-herzha
 user-dorfer
DTEND:20240502T180000Z
DTSTAMP:20260422T234503Z
DTSTART:20240502T160000Z
LOCATION:Marburger Straße 8\, Roter Platz\, 57223 Kreuztal
SEQUENCE:0
SUMMARY:Pedelec Feierabendtour Herzhäuser Dörfer
UID:72e50de8-8e68-45c5-9d9c-41e93f4a794c
URL:https://touren-termine.adfc.de/radveranstaltung/118875-pedelec-feierab
 endtour-herzhauser-dorfer
END:VEVENT
END:VCALENDAR
